BEGIN:VCALENDAR
VERSION:2.0
PRODID:-//wp-events-plugin.com//7.1.7//EN
TZID:Europe/Paris
X-WR-TIMEZONE:Europe/Paris
BEGIN:VEVENT
UID:0-1113@mairie-tournefeuille.fr
DTSTART;TZID=Europe/Paris:20260624T190000
DTEND;TZID=Europe/Paris:20260624T203000
DTSTAMP:20260220T124825Z
URL:https://www.mairie-tournefeuille.fr/evenements/cest-la-que-je-vis/
SUMMARY:C'est là que je vis
DESCRIPTION:mercredi 24 juin \n19h\nC’est là que je vis&nbsp\;\nSpectacl
 e de l’atelier ados de l’École d’Art Dramatique de la Compagnie Gre
 nier de Toulouse\, dirigé par Julie Safon \nAu fil des scènes\, on déco
 uvre une galerie de personnages hauts en couleur : voisins qui s’éviten
 t\, autres qui s’adorent\, solitaires bavards\, rêveurs chroniques ou r
 âleurs professionnels.\nUn spectacle qui mêle poésie du quotidien et hu
 mour décalé pour montrer comment\, derrière les murs trop fins ou les p
 ortes qui claquent\, chacun tente d’exister\, d’aimer ou simplement de
  tenir debout. C’est une&nbsp\;fresque fantasque où les stéréotypes f
 rôlent le théâtre de l'absurde.\nTout public Tarifs : 14€ / 8€ ré
 duit (moins de 26 ans\, demandeurs d’emploi\, intermittents du spectacle
 \, élèves de l’EAD) Lieu : l’Escale \nContact : Billetterie l’Es
 cale
ATTACH;FMTTYPE=image/jpeg:https://www.mairie-tournefeuille.fr/app/uploads/
 1/2026/02/EVENT-AGENDA-SITE-MAIRIE-408-x-272-px5-2.jpg
CATEGORIES:Culture,Famille,Spectacles
LOCATION:l'Escale\, France
X-APPLE-STRUCTURED-LOCATION;VALUE=URI;X-ADDRESS=l'Escale\, France;X-APPLE-R
 ADIUS=100;X-TITLE=:geo:0,0
END:VEVENT
BEGIN:VTIMEZONE
TZID:Europe/Paris
X-LIC-LOCATION:Europe/Paris
BEGIN:DAYLIGHT
DTSTART:20260329T030000
TZOFFSETFROM:+0100
TZOFFSETTO:+0200
TZNAME:CEST
END:DAYLIGHT
END:VTIMEZONE
END:VCALENDAR