BEGIN:VCALENDAR
VERSION:2.0
PRODID:-//wp-events-plugin.com//7.1.7//EN
TZID:Europe/Paris
X-WR-TIMEZONE:Europe/Paris
BEGIN:VEVENT
UID:0-1110@mairie-tournefeuille.fr
DTSTART;TZID=Europe/Paris:20260620T180000
DTEND;TZID=Europe/Paris:20260620T193000
DTSTAMP:20260220T104421Z
URL:https://www.mairie-tournefeuille.fr/evenements/des-connectes/
SUMMARY:Des-connectés
DESCRIPTION:samedi 20 juin\n18h\nDes-connectés&nbsp\;\nSpectacle de l’at
 elier ados de l’École d’Art Dramatique de la Compagnie Grenier de Tou
 louse\, dirigé par Chloé Rodriguez.\n"Connexion"... permanente\, excessi
 ve\, effrayante\, drôle\, géniale ou utile ? \nDans cette succession de 
 saynètes aux personnages parfois drôles\, émouvants\, souvent excessifs
 \, pas de doute que vous reconnaîtrez quelqu’un de votre entourage.\nQu
 e vous soyez addicts avec un smartphone en troisième main ou réfractaire
 s\, accros aux réseaux sociaux ou alarmés par ce monde nouveau\, vous ê
 tes les bienvenus&nbsp\;!\nTout public Tarifs : 14€ / 8€ réduit (moi
 ns de 26 ans\, demandeurs d’emploi\, intermittents du spectacle\, élèv
 es de l’EAD) Lieu : l’Escale Contact : Billetterie l’Escale
ATTACH;FMTTYPE=image/jpeg:https://www.mairie-tournefeuille.fr/app/uploads/
 1/2026/02/EVENT-AGENDA-SITE-MAIRIE-408-x-272-px6-1.jpg
CATEGORIES:Culture,Famille,Jeunesse,Spectacles
LOCATION:l'Escale\, France
X-APPLE-STRUCTURED-LOCATION;VALUE=URI;X-ADDRESS=l'Escale\, France;X-APPLE-R
 ADIUS=100;X-TITLE=:geo:0,0
END:VEVENT
BEGIN:VTIMEZONE
TZID:Europe/Paris
X-LIC-LOCATION:Europe/Paris
BEGIN:DAYLIGHT
DTSTART:20260329T030000
TZOFFSETFROM:+0100
TZOFFSETTO:+0200
TZNAME:CEST
END:DAYLIGHT
END:VTIMEZONE
END:VCALENDAR