BEGIN:VCALENDAR
VERSION:2.0
PRODID:-//wp-events-plugin.com//7.1.7//EN
TZID:Europe/Paris
X-WR-TIMEZONE:Europe/Paris
BEGIN:VEVENT
UID:0-1119@mairie-tournefeuille.fr
DTSTART;TZID=Europe/Paris:20260704T100000
DTEND;TZID=Europe/Paris:20260704T110000
DTSTAMP:20260220T133245Z
URL:https://www.mairie-tournefeuille.fr/evenements/dictee-party/
SUMMARY:Dictée Party
DESCRIPTION:Samedi 4 juillet\n10h\nParticipez à une dictée ludique\, conv
 iviale et surtout sans pression… L’exercice se déroulera cependant da
 ns un Bistrot ! Le texte de la dictée sera inspiré par la 12e édition 
 de Partir en livre autour du thème « Nos petits et grands héros ».\n
 Public : à partir de 12 ans Gratuit sur inscription Lieu : Bistrot de l
 ’Escale \nContact : Médiathèque 05 62 13 21 60
ATTACH;FMTTYPE=image/jpeg:https://www.mairie-tournefeuille.fr/app/uploads/
 1/2026/02/EVENT-AGENDA-SITE-MAIRIE-408-x-272-px12.jpg
CATEGORIES:Culture,Famille,Médiathèque,Médiation
LOCATION:Bistrot de l'Escale\, France
X-APPLE-STRUCTURED-LOCATION;VALUE=URI;X-ADDRESS=Bistrot de l'Escale\, Franc
 e;X-APPLE-RADIUS=100;X-TITLE=:geo:0,0
END:VEVENT
BEGIN:VTIMEZONE
TZID:Europe/Paris
X-LIC-LOCATION:Europe/Paris
BEGIN:DAYLIGHT
DTSTART:20260329T030000
TZOFFSETFROM:+0100
TZOFFSETTO:+0200
TZNAME:CEST
END:DAYLIGHT
END:VTIMEZONE
END:VCALENDAR