BEGIN:VCALENDAR
VERSION:2.0
PRODID:-//wp-events-plugin.com//7.1.7//EN
TZID:Europe/Paris
X-WR-TIMEZONE:Europe/Paris
BEGIN:VEVENT
UID:0-1112@mairie-tournefeuille.fr
DTSTART;TZID=Europe/Paris:20260621T190000
DTEND;TZID=Europe/Paris:20260621T235900
DTSTAMP:20260220T124403Z
URL:https://www.mairie-tournefeuille.fr/evenements/fete-de-la-musique-2/
SUMMARY:Fête de la musique
DESCRIPTION:dimanche 21 juin\nà partir de 19h\nAu programme&nbsp\;:\nLAS P
 ANTERAS&nbsp\;: World – Electro\nACCESS CREW&nbsp\;: Funk – Rock – P
 op\nLOS GUAYABO BROTHERS&nbsp\;: Musique Latine\nMAMA SAID&nbsp\;: Hip Hop
  – Soul\nVESPA COUGOURDON OURCHESTRA&nbsp\;: Fanfare organique de transe
  carnavalesque\n+ les programmations de l’École d’Enseignements Artis
 tiques et de l’Archipel – Ville de Tournefeuille.\nTout public Gratuit
  Lieu : Place de la Mairie Contact : lescale-tournefeuille.fr
ATTACH;FMTTYPE=image/jpeg:https://www.mairie-tournefeuille.fr/app/uploads/
 1/2026/02/EVENT-AGENDA-SITE-MAIRIE-408-x-272-px3-3.jpg
CATEGORIES:Concerts,Culture,Famille,Jeunesse,Spectacles
LOCATION:Place de la Mairie\, France
X-APPLE-STRUCTURED-LOCATION;VALUE=URI;X-ADDRESS=Place de la Mairie\, France
 ;X-APPLE-RADIUS=100;X-TITLE=:geo:0,0
END:VEVENT
BEGIN:VTIMEZONE
TZID:Europe/Paris
X-LIC-LOCATION:Europe/Paris
BEGIN:DAYLIGHT
DTSTART:20260329T030000
TZOFFSETFROM:+0100
TZOFFSETTO:+0200
TZNAME:CEST
END:DAYLIGHT
END:VTIMEZONE
END:VCALENDAR