BEGIN:VCALENDAR
VERSION:2.0
PRODID:-//wp-events-plugin.com//7.1.7//EN
TZID:Europe/Paris
X-WR-TIMEZONE:Europe/Paris
BEGIN:VEVENT
UID:0-1120@mairie-tournefeuille.fr
DTSTART;TZID=Europe/Paris:20260713T190000
DTEND;TZID=Europe/Paris:20260713T235500
DTSTAMP:20260220T135155Z
URL:https://www.mairie-tournefeuille.fr/evenements/grand-bal-du-13-juillet
 /
SUMMARY:Grand Bal du 13 Juillet
DESCRIPTION:lundi 13 juillet\n20h\nEn Bal et vous ! nous embarque dans un b
 al décalé\, original et contemporain porté par un orchestre et ses dans
 euses prêts à électriser le public avec des tubes revisités et beaucou
 p d’humour ! Leur énergie est communicative : ENTREZ DANS LA DANSE&nbsp
 \;!\nAvant le grand bal du soir\, une initiation à la danse sera proposé
 e de 20h à 21h.\nSoyez les bienvenus&nbsp\;!\nTout public  Gratuit Lieu 
 : Place de la Mairie \nPlus d'infos sur le site de lescale-tournefeuille.f
 r
ATTACH;FMTTYPE=image/jpeg:https://www.mairie-tournefeuille.fr/app/uploads/
 1/2026/02/ACTU-EVENTS-LESCALESITE.jpg
CATEGORIES:Concerts,Culture,Famille,Jeunesse,Spectacles
LOCATION:Place de la Mairie\, France
X-APPLE-STRUCTURED-LOCATION;VALUE=URI;X-ADDRESS=Place de la Mairie\, France
 ;X-APPLE-RADIUS=100;X-TITLE=:geo:0,0
END:VEVENT
BEGIN:VTIMEZONE
TZID:Europe/Paris
X-LIC-LOCATION:Europe/Paris
BEGIN:DAYLIGHT
DTSTART:20260329T030000
TZOFFSETFROM:+0100
TZOFFSETTO:+0200
TZNAME:CEST
END:DAYLIGHT
END:VTIMEZONE
END:VCALENDAR