BEGIN:VCALENDAR
VERSION:2.0
PRODID:-//wp-events-plugin.com//7.1.7//EN
TZID:Europe/Paris
X-WR-TIMEZONE:Europe/Paris
BEGIN:VEVENT
UID:0-1115@mairie-tournefeuille.fr
DTSTART;TZID=Europe/Paris:20260626T203000
DTEND;TZID=Europe/Paris:20260626T220000
DTSTAMP:20260220T130637Z
URL:https://www.mairie-tournefeuille.fr/evenements/la-vie-en-quiproquos/
SUMMARY:La vie en quiproquos
DESCRIPTION:vendredi 26 juin\n20h30\nLa vie en quiproquos&nbsp\;\nSpectacle
  de la Troupe de théâtre Pahin Paha - Association Culture et Loisirs de 
 Pahin\nEntre amour\, travail et couple rien ne se passe comme prévu. Les 
 personnages s’embrouillent\, se déguisent\, se contredisent et nous ent
 raînent dans une série de quiproquos où le sérieux se fracasse contre 
 l’absurde ! Un spectacle tendre et hilarant qui rappelle que\, dans la 
 vie\, le ridicule est souvent la meilleure façon de dire la vérité.\nTo
 ut public à partir de 10 ans Tarifs : tarif unique 10€ Lieu : l’Esc
 ale \nContact : Billetterie l’Escale
ATTACH;FMTTYPE=image/jpeg:https://www.mairie-tournefeuille.fr/app/uploads/
 1/2026/02/EVENT-AGENDA-SITE-MAIRIE-408-x-272-px8-1.jpg
CATEGORIES:Culture,Famille,Spectacles
LOCATION:l'Escale\, France
X-APPLE-STRUCTURED-LOCATION;VALUE=URI;X-ADDRESS=l'Escale\, France;X-APPLE-R
 ADIUS=100;X-TITLE=:geo:0,0
END:VEVENT
BEGIN:VTIMEZONE
TZID:Europe/Paris
X-LIC-LOCATION:Europe/Paris
BEGIN:DAYLIGHT
DTSTART:20260329T030000
TZOFFSETFROM:+0100
TZOFFSETTO:+0200
TZNAME:CEST
END:DAYLIGHT
END:VTIMEZONE
END:VCALENDAR