BEGIN:VCALENDAR
VERSION:2.0
PRODID:-//wp-events-plugin.com//7.1.7//EN
TZID:Europe/Paris
X-WR-TIMEZONE:Europe/Paris
BEGIN:VEVENT
UID:0-1111@mairie-tournefeuille.fr
DTSTART;TZID=Europe/Paris:20260620T203000
DTEND;TZID=Europe/Paris:20260620T214500
DTSTAMP:20260220T123642Z
URL:https://www.mairie-tournefeuille.fr/evenements/le-fol-espoir/
SUMMARY:Le Fol Espoir
DESCRIPTION:samedi 20 juin \n20h30\nLe Fol Espoir \nSpectacle de l’atelie
 r adultes de l’École d’Art Dramatique de la Compagnie Grenier de Toul
 ouse\, dirigé par Yohann Villepastour \nDeux univers se croisent alors&nb
 sp\;: celui de l'épopée extraordinaire des passagers du bateau Le Fol Es
 poir cherchant un monde meilleur de l'autre côté de l'océan\, et celui 
 de ces cinéastes réalisant un film avec les moyens du bord.\nAvec en toi
 le de fond\, l'angoisse perpétuelle que la guerre soit déclarée…\nTou
 t public Tarifs : 14€ / 8€ réduit (moins de 26 ans\, demandeurs d’
 emploi\, intermittents du spectacle\, élèves de l’EAD) Lieu : l’Esc
 ale \nContact : Billetterie l’Escale
ATTACH;FMTTYPE=image/jpeg:https://www.mairie-tournefeuille.fr/app/uploads/
 1/2026/02/EVENT-AGENDA-SITE-MAIRIE-408-x-272-px2-3.jpg
CATEGORIES:Culture,Famille,Spectacles
LOCATION:l'Escale\, France
X-APPLE-STRUCTURED-LOCATION;VALUE=URI;X-ADDRESS=l'Escale\, France;X-APPLE-R
 ADIUS=100;X-TITLE=:geo:0,0
END:VEVENT
BEGIN:VTIMEZONE
TZID:Europe/Paris
X-LIC-LOCATION:Europe/Paris
BEGIN:DAYLIGHT
DTSTART:20260329T030000
TZOFFSETFROM:+0100
TZOFFSETTO:+0200
TZNAME:CEST
END:DAYLIGHT
END:VTIMEZONE
END:VCALENDAR