BEGIN:VCALENDAR
VERSION:2.0
PRODID:-//wp-events-plugin.com//7.1.7//EN
TZID:Europe/Paris
X-WR-TIMEZONE:Europe/Paris
BEGIN:VEVENT
UID:0-1118@mairie-tournefeuille.fr
DTSTART;TZID=Europe/Paris:20260628T163000
DTEND;TZID=Europe/Paris:20260628T180000
DTSTAMP:20260220T132723Z
URL:https://www.mairie-tournefeuille.fr/evenements/missa-gallica/
SUMMARY:Missa Gallica
DESCRIPTION:Dimanche 28 juin\n16h30\nConcert de l’Ensemble Vocal de Tourn
 efeuille\nL'Ensemble Vocal de Tournefeuille vous invite à une après-midi
  musicale et festive autour de la "Missa Gallica" de Bernard Lallemand\, a
 vec la participation de l’ensemble choral Vocal’Hyse de Venerque.Cette
  oeuvre réunit des chants traditionnels français harmonisés pour solist
 es et chœurs\, accompagnés d'instruments traditionnels et modernes mêl
 és.Des danses folkloriques viendront illustrer ces chants sur scène. Une
  séance d'initiation aux danses traditionnelles sera proposée au public 
 en amont du concert\, par le Club de Danses d'Occitanie et d'Ailleurs de T
 ournefeuille. Direction musicale : Mariano Sans.Tout public Tarifs : 15
 € /gratuit étudiants\, moins de 16 ans\, et personnes en situation de h
 andicap \nLieu : l’Escale \nContact : Billetterie l’escale\n© tous 
 droits réservés
ATTACH;FMTTYPE=image/jpeg:https://www.mairie-tournefeuille.fr/app/uploads/
 1/2026/02/EVENT-AGENDA-SITE-MAIRIE-408-x-272-px11-1.jpg
CATEGORIES:Culture,Famille,Spectacles
LOCATION:l'Escale\, France
X-APPLE-STRUCTURED-LOCATION;VALUE=URI;X-ADDRESS=l'Escale\, France;X-APPLE-R
 ADIUS=100;X-TITLE=:geo:0,0
END:VEVENT
BEGIN:VTIMEZONE
TZID:Europe/Paris
X-LIC-LOCATION:Europe/Paris
BEGIN:DAYLIGHT
DTSTART:20260329T030000
TZOFFSETFROM:+0100
TZOFFSETTO:+0200
TZNAME:CEST
END:DAYLIGHT
END:VTIMEZONE
END:VCALENDAR