BEGIN:VCALENDAR
VERSION:2.0
PRODID:-//wp-events-plugin.com//7.1.7//EN
TZID:Europe/Paris
X-WR-TIMEZONE:Europe/Paris
BEGIN:VEVENT
UID:0-1099@mairie-tournefeuille.fr
DTSTART;TZID=Europe/Paris;VALUE=DATE:20260504
DTEND;TZID=Europe/Paris;VALUE=DATE:20260530
DTSTAMP:20260219T144949Z
URL:https://www.mairie-tournefeuille.fr/evenements/regards-photographiques
 -exposition/
SUMMARY:"Regards photographiques" -exposition
DESCRIPTION:Du lundi 4 au vendredi 29 mai (aux heures d’ouverture de la M
 aison de quartier)\nExposition par l'Atelier Regards Photographiques\nPour
  cette exposition photographique collective\, les participants à l’Atel
 ier se sont prêtés au jeu d’explorer les thèmes suivants : «&nbsp\;D
 ans le flou&nbsp\;» et «&nbsp\;Habiter&nbsp\;».\nVernissage&nbsp\;: jeu
 di 7 mai à 18h30.\nTout public Entrée libre Lieu : Maison de Quartier d
 e Quéfets Contact : Maison de Quartier de Quéfets
ATTACH;FMTTYPE=image/jpeg:https://www.mairie-tournefeuille.fr/app/uploads/
 1/2026/02/EVENT-AGENDA-SITE-MAIRIE-408-x-272-px6.jpg
CATEGORIES:Culture,Expositions,Famille,Maisons de quartier
LOCATION:Maison de quartier Quéfets, bd Savary\, France
X-APPLE-STRUCTURED-LOCATION;VALUE=URI;X-ADDRESS=Maison de quartier Quéfets
 , bd Savary\, France;X-APPLE-RADIUS=100;X-TITLE=:geo:0,0
END:VEVENT
BEGIN:VTIMEZONE
TZID:Europe/Paris
X-LIC-LOCATION:Europe/Paris
BEGIN:DAYLIGHT
DTSTART:20260329T030000
TZOFFSETFROM:+0100
TZOFFSETTO:+0200
TZNAME:CEST
END:DAYLIGHT
END:VTIMEZONE
END:VCALENDAR