BEGIN:VCALENDAR
VERSION:2.0
PRODID:-//wp-events-plugin.com//7.1.7//EN
TZID:Europe/Paris
X-WR-TIMEZONE:Europe/Paris
BEGIN:VEVENT
UID:0-1116@mairie-tournefeuille.fr
DTSTART;TZID=Europe/Paris:20260627T203000
DTEND;TZID=Europe/Paris:20260627T220000
DTSTAMP:20260220T131456Z
URL:https://www.mairie-tournefeuille.fr/evenements/spectacle-des-ateliers-
 enfants-de-la-comedie-sans-fraise/
SUMMARY:Spectacle des ateliers enfants de la Comédie Sans Fraise
DESCRIPTION:samedi 27 juin\n20h30\nSpectacle des ateliers de La Comédie Sa
 ns Fraise\nMontez à bord avec « Voyages »\, pièce mise en scène par
  Guylaine Mangin et poursuivez la soirée avec une pièce surprise mise en
  scène par Eva Gallego.\nTout public Tarifs : 10 €/ 6€ moins de 18 a
 ns Lieu : l’Escale\nContact&nbsp\;: Billetterie l’Escale
ATTACH;FMTTYPE=image/jpeg:https://www.mairie-tournefeuille.fr/app/uploads/
 1/2026/02/EVENT-AGENDA-SITE-MAIRIE-408-x-272-px9-1.jpg
CATEGORIES:Culture,Famille,Spectacles
LOCATION:l'Escale\, France
X-APPLE-STRUCTURED-LOCATION;VALUE=URI;X-ADDRESS=l'Escale\, France;X-APPLE-R
 ADIUS=100;X-TITLE=:geo:0,0
END:VEVENT
BEGIN:VTIMEZONE
TZID:Europe/Paris
X-LIC-LOCATION:Europe/Paris
BEGIN:DAYLIGHT
DTSTART:20260329T030000
TZOFFSETFROM:+0100
TZOFFSETTO:+0200
TZNAME:CEST
END:DAYLIGHT
END:VTIMEZONE
END:VCALENDAR