BEGIN:VCALENDAR
VERSION:2.0
PRODID:-//wp-events-plugin.com//7.1.7//EN
TZID:Europe/Paris
X-WR-TIMEZONE:Europe/Paris
BEGIN:VEVENT
UID:0-1108@mairie-tournefeuille.fr
DTSTART;TZID=Europe/Paris:20260619T200000
DTEND;TZID=Europe/Paris:20260620T220000
DTSTAMP:20260220T140458Z
URL:https://www.mairie-tournefeuille.fr/evenements/spectacles-de-danse-de-
 leea/
SUMMARY:Spectacles de Danse de l'EEA
DESCRIPTION:Vendredi 19 et Samedi 20 juin  \n20h\nSpectacles de danse de l
 ’EEA\nDirection artistique : Ben Assabi (professeur de danse Hip Hop) et
  Giorgia Aratri (professeur de danse contemporaine et d’Initiation) \nDe
 ux soirées\, deux spectacles de danse qui abordent chacun à leur manièr
 e et dans la diversité de styles des disciplines représentées\, le thè
 me libre de "LA VILLE". Chaque soir\, sont réunis sur scène les élèves
  issus des cours de danse de l'Ecole d'Enseignements Artistiques encadrés
  par leurs enseignants :\nDanse Hip Hop (Ben Assabi) \nDanse Jazz (Delphin
 e Honorat) \nDanse Classique et Initiation (Sonia Lepvraud)\nDanse Contem
 poraine et Initiation (Giorgia Aratri) \nDanse Africaine (Clément Assemia
 n).\nUn travail au long cours pour un show flamboyant !\nTout public En pr
 évente uniquement&nbsp\;: 5€ / gratuit moins de 12 ans\nLieu&nbsp\;: Le
  Phare Contact&nbsp\;: 07 63 71 90 42 - eea@mairie-tournefeuille.fr
ATTACH;FMTTYPE=image/jpeg:https://www.mairie-tournefeuille.fr/app/uploads/
 1/2026/02/EVENT-AGENDA-SITE-MAIRIE-408-x-272-px3-2.jpg
CATEGORIES:Culture,Famille,Jeunesse,Spectacles
LOCATION:Le Phare\, France
X-APPLE-STRUCTURED-LOCATION;VALUE=URI;X-ADDRESS=Le Phare\, France;X-APPLE-R
 ADIUS=100;X-TITLE=:geo:0,0
END:VEVENT
BEGIN:VTIMEZONE
TZID:Europe/Paris
X-LIC-LOCATION:Europe/Paris
BEGIN:DAYLIGHT
DTSTART:20260329T030000
TZOFFSETFROM:+0100
TZOFFSETTO:+0200
TZNAME:CEST
END:DAYLIGHT
END:VTIMEZONE
END:VCALENDAR