BEGIN:VCALENDAR
VERSION:2.0
PRODID:-//wp-events-plugin.com//7.1.7//EN
TZID:Europe/Paris
X-WR-TIMEZONE:Europe/Paris
BEGIN:VEVENT
UID:0-1117@mairie-tournefeuille.fr
DTSTART;TZID=Europe/Paris:20260704T193000
DTEND;TZID=Europe/Paris:20260705T210000
DTSTAMP:20260220T135051Z
URL:https://www.mairie-tournefeuille.fr/evenements/spectacles-de-la-comedi
 e-sans-fraise/
SUMMARY:Spectacles de la Comédie Sans Fraise
DESCRIPTION:samedi 4 juillet et dimanche 5 juillet\n19h30\nVenez découvrir
  pas moins de 6 spectacles répartis sur deux soirées distinctes\, mis en
  scène par Eva Gallego et Guylaine Mangin : fraîcheur et bonne humeur s
 eront au rendez-vous !\nTout public\nTarif incluant les deux soirées : 1
 5€ adultes / 10€ moins de 18 ans\nLieu&nbsp\;: Le Phare\nContact&nbsp\
 ;: comediesansfraise@gmail.com
ATTACH;FMTTYPE=image/jpeg:https://www.mairie-tournefeuille.fr/app/uploads/
 1/2026/02/EVENT-AGENDA-SITE-MAIRIE-408-x-272-px10-1.jpg
CATEGORIES:Culture,Famille,Spectacles
LOCATION:Le Phare\, France
X-APPLE-STRUCTURED-LOCATION;VALUE=URI;X-ADDRESS=Le Phare\, France;X-APPLE-R
 ADIUS=100;X-TITLE=:geo:0,0
END:VEVENT
BEGIN:VTIMEZONE
TZID:Europe/Paris
X-LIC-LOCATION:Europe/Paris
BEGIN:DAYLIGHT
DTSTART:20260329T030000
TZOFFSETFROM:+0100
TZOFFSETTO:+0200
TZNAME:CEST
END:DAYLIGHT
END:VTIMEZONE
END:VCALENDAR