BEGIN:VCALENDAR
VERSION:2.0
PRODID:-//wp-events-plugin.com//7.1.7//EN
TZID:Europe/Paris
X-WR-TIMEZONE:Europe/Paris
BEGIN:VEVENT
UID:0-1144@mairie-tournefeuille.fr
DTSTART;TZID=Europe/Paris;VALUE=DATE:20260501
DTEND;TZID=Europe/Paris;VALUE=DATE:20260511
DTSTAMP:20260401T091925Z
URL:https://www.mairie-tournefeuille.fr/evenements/tom-a-la-ferme/
SUMMARY:Tom à la ferme
DESCRIPTION:Cie Grenier de Toulouse\ndu 1er au 10 mai\nDu mardi au samedi 2
 0H30 – Dimanche 16H00\nl’Escale\nTout public à partir de 14 ans\n&lt\
 ; Plus d'info sur ce spectacle - lescale-tournefeuille.fr &gt\;\n&lt\; Bil
 letterie en ligne &gt\;
ATTACH;FMTTYPE=image/jpeg:https://www.mairie-tournefeuille.fr/app/uploads/
 1/2026/04/EVENT-AGENDA-SITE-MAIRIE-408-x-272-px3.jpg
CATEGORIES:Culture,Spectacles
LOCATION:l'Escale\, France
X-APPLE-STRUCTURED-LOCATION;VALUE=URI;X-ADDRESS=l'Escale\, France;X-APPLE-R
 ADIUS=100;X-TITLE=:geo:0,0
END:VEVENT
BEGIN:VTIMEZONE
TZID:Europe/Paris
X-LIC-LOCATION:Europe/Paris
BEGIN:DAYLIGHT
DTSTART:20260329T030000
TZOFFSETFROM:+0100
TZOFFSETTO:+0200
TZNAME:CEST
END:DAYLIGHT
END:VTIMEZONE
END:VCALENDAR