BEGIN:VCALENDAR
VERSION:2.0
PRODID:-//wp-events-plugin.com//7.1.7//EN
TZID:Europe/Paris
X-WR-TIMEZONE:Europe/Paris
BEGIN:VEVENT
UID:0-1114@mairie-tournefeuille.fr
DTSTART;TZID=Europe/Paris:20260624T210000
DTEND;TZID=Europe/Paris:20260624T220000
DTSTAMP:20260220T125304Z
URL:https://www.mairie-tournefeuille.fr/evenements/une-histoire-de-femmes-
 et-de-football/
SUMMARY:Une histoire de femmes et de football
DESCRIPTION:mercredi 24 juin \n21h\nSpectacle de l’atelier adultes de l
 ’École d’Art Dramatique de la Compagnie Grenier de Toulouse\, dirigé
  par Nathan Croquet \nPendant la Première Guerre Mondiale\, des femmes da
 ns une usine de munitions d'Angleterre commencent à jouer au football. C'
 est une aventure de femmes\, d'émancipation en temps de guerre.\nTout pub
 lic Tarifs : 14€ / 8€ réduit (moins de 26 ans\, demandeurs d’emplo
 i\, intermittents du spectacle\, élèves de l’EAD) Lieu : l’Escale \
 nContact : Billetterie l’Escale
ATTACH;FMTTYPE=image/jpeg:https://www.mairie-tournefeuille.fr/app/uploads/
 1/2026/02/EVENT-AGENDA-SITE-MAIRIE-408-x-272-px7-1.jpg
CATEGORIES:Culture,Famille,Spectacles
LOCATION:l'Escale\, France
X-APPLE-STRUCTURED-LOCATION;VALUE=URI;X-ADDRESS=l'Escale\, France;X-APPLE-R
 ADIUS=100;X-TITLE=:geo:0,0
END:VEVENT
BEGIN:VTIMEZONE
TZID:Europe/Paris
X-LIC-LOCATION:Europe/Paris
BEGIN:DAYLIGHT
DTSTART:20260329T030000
TZOFFSETFROM:+0100
TZOFFSETTO:+0200
TZNAME:CEST
END:DAYLIGHT
END:VTIMEZONE
END:VCALENDAR