BEGIN:VCALENDAR
VERSION:2.0
PRODID:-//wp-events-plugin.com//7.1.7//EN
TZID:Europe/Paris
X-WR-TIMEZONE:Europe/Paris
BEGIN:VEVENT
UID:0-1109@mairie-tournefeuille.fr
DTSTART;TZID=Europe/Paris:20260619T203000
DTEND;TZID=Europe/Paris:20260619T214500
DTSTAMP:20260220T100002Z
URL:https://www.mairie-tournefeuille.fr/evenements/y-a-t-il-un-metteur-en-
 scene-dans-la-salle/
SUMMARY:Y a t-il un metteur en scène dans la salle ?
DESCRIPTION:vendredi 19 juin\n20h30\nY-a-t-il un metteur en scène dans la 
 salle ? - Pièce de théâtre amateur. Mise en scène : Nicole Dupuy.\nPa
 r l’Atelier Les Belles Choses\nBrad et Carol vivent un amour caché. Que
 ls rôles jouent-ils ? Qui tire les ficelles ? Qui sera le maître du je
 u ? \nTout public 10€ tarif unique Lieu : l’Escale Contact : Billet
 terie l’Escale - bientôt disponible\nLes acteurs Josiane et Philippe se
  sont rencontrés il y a plus de vingt ans dans l’atelier théâtre de l
 ’Ecole d’Enseignements Artistiques de Tournefeuille avec\, comme profe
 sseurs\, Nicole Dupuy et Marc Delfour. Ils ont joué ensemble dans de nomb
 reuses pièces : Hôtel des deux mondes\, Une comète à Cuba\, Est-ce qu
 e les fous jouent-ils ?\, Les papillons blancs… Leur amitié les a cond
 uits à découvrir le texte LOVE LETTERS (Lettres d’amour). Ils l’ont 
 aimé dès la première lecture et ont décidé de le partager avec le pub
 lic. Avec l’aide précieuse de leurs conjoints respectifs\, ils ont fond
 é leur petite compagnie théâtrale “L’Atelier des Belles Choses” p
 our leur permettre de se produire là ou le vent et les rencontres les pou
 sseront.
ATTACH;FMTTYPE=image/jpeg:https://www.mairie-tournefeuille.fr/app/uploads/
 1/2026/02/EVENT-AGENDA-SITE-MAIRIE-408-x-272-px5-1.jpg
CATEGORIES:Culture,Famille,Spectacles
LOCATION:l'Escale\, France
X-APPLE-STRUCTURED-LOCATION;VALUE=URI;X-ADDRESS=l'Escale\, France;X-APPLE-R
 ADIUS=100;X-TITLE=:geo:0,0
END:VEVENT
BEGIN:VTIMEZONE
TZID:Europe/Paris
X-LIC-LOCATION:Europe/Paris
BEGIN:DAYLIGHT
DTSTART:20260329T030000
TZOFFSETFROM:+0100
TZOFFSETTO:+0200
TZNAME:CEST
END:DAYLIGHT
END:VTIMEZONE
END:VCALENDAR